BEGIN:VCALENDAR
VERSION:2.0
PRODID:eintopf.info
METHOD:REQUEST
BEGIN:VEVENT
UID:140c6a27-665d-4fde-b417-2a8b85af9304
SUMMARY:Wildkräuterführung mit Birgit Haas
DTSTART:20250920T120000Z
URL:https://eintopf.info/event/140c6a27-665d-4fde-b417-2a8b85af9304
DTEND:20250920T143000Z
CATEGORIES:Vortrag\,Ernährung
DESCRIPTION:Birgit Haas\, zertifizierte Fachberaterin für Selbstversorgung
  mit essbaren Wildpflanzen HfWU\, stellt Euch die wildesten Pflanzen auf
  Inselgrün vor. Erlebt botanische Überraschungen\, gärtnerische Tipps
  und spannende Zusammenhänge\, um mit der Natur zu arbeiten.\nErlebt eine
  umfangreiche\, spannende Wildkräuterführung mit anschließender
  Verköstigung und nehmt etwas von Birgits Expertise mit nach Hause - in
  den Garten und in die Küche!\n#jetztklimachen\n\nTickets (zahl was Du
  kannst):
  https://www.kulturinsel-stuttgart.org/event-details/wildkrauterfuhrung-mi
 t-birgit-haas-2025-09-20-14-00
LOCATION:Kulturinsel\, Güterstraße 4\, 70372 Stuttgart
GEO:48.7974711;9.2264063
ORGANIZER:mailto:Kulturinsel Stuttgart,Birgit Haas
END:VEVENT
END:VCALENDAR
