BEGIN:VCALENDAR
VERSION:2.0
PRODID:eintopf.info
METHOD:REQUEST
BEGIN:VEVENT
UID:13a81fb4-fe4f-476a-8247-e1ecc4571ce5
SUMMARY:Verbrannte Bücher
DTSTART:20230510T173000Z
URL:https://eintopf.info/event/13a81fb4-fe4f-476a-8247-e1ecc4571ce5
DESCRIPTION:Am 90. Jahrestag der Bücherverbrennungen\n\nJazz + Text: Für
  das Wort und die Freiheit – Texte verfolgter AutorInnen\nAm Akkordeon:
  Frank Eisele\n\nZensur\, Meinungsfreiheit\, Menschenrechte – da steht
  viel auf dem Papier – und vielfach steht für viele das Leben auf dem
  Spiel. Zum 90. Jahrestag der Bücherverbrennung 1933 präsentierten wir
  mit dem Stuttgarter Bürgerchor Texte von und über AutorInnen
  verbrannter Bücher – u.a. Bertolt Brecht und Johannes R. Becher\,
  Irmgard Keun\, Anna Seghers und Erich Kästner\, Johanna Bleschke / Rahel
  Sanzara\, Adrienne Thomas – und erinnern an Betty Rosenfeld\, Richard
  Schmid\, Fritz Bauer\, Eugen Eberle\, Susanne Leonhard und Fritz
  Lamm.\nhttps://theateramolgaeck.org/theaterprogramm/fuer-das-wort-und-die
 -freiheit-verbrannte-buecher/
LOCATION:Theater am Olgaeck\, Charlottenstr. 44 Stuttgart
ORGANIZER:mailto:Die AnStifter,Theater am Olgaeck
END:VEVENT
END:VCALENDAR
