BEGIN:VCALENDAR
VERSION:2.0
PRODID:eintopf.info
METHOD:REQUEST
BEGIN:VEVENT
UID:10cadc69-a48f-41c6-8453-5ceecf17f028
SUMMARY:Gegen die Logik der Gewalt - Israel/Gaza: Aktuelle Situation &
  Hintergründe
DTSTART:20240222T180000Z
URL:https://eintopf.info/event/10cadc69-a48f-41c6-8453-5ceecf17f028
DESCRIPTION:Veranstaltung mit einem Vertreter von Medico
  International\n\nAm 7. Oktober 2023 griff die Hamas im Süden Israels
  überraschend Militärstützpunkte und kleinere Ortschaften an und
  tötete rund 1.200 Menschen\, die Mehrheit von ihnen Zivilist*innen\,
  darunter auch Kinder. Über 200 Personen wurden als Geiseln in den
  Gazastreifen verschleppt\, von denen sich geschätzt weiterhin 132 dort
  befinden.\n\nNoch am selben Tag begann die israelische Luftwaffe damit\,
  Ziele im Gazastreifen zu bombardieren. Das militärische Vorgehen wuchs
  sich schnell zu einem Krieg gegen Gaza mit einer wochenlangen
  vollständigen Abriegelung der Enklave aus. Bisher sind dem über 27.000
  Menschen zum Opfer gefallen\, mindestens zwei Drittel der Opfer Frauen
  und Kinder. Weitere Tausende Menschen liegen in Gaza noch unter Trümmern
  begraben. Unterdessen hat der Internationale Gerichtshof in Den Haag auf
  Betreiben Südafrikas ein Verfahren gegen Israel eröffnet wegen des
  Verdachts auf Verstöße gegen die Völkermord-Konvention.\n\nUm diese
  Situation insgesamt besser einordnen zu können\, haben wir den
  Nahostreferenten von Medico International\, Riad Othman\, eingeladen.
  Medico streitet seit der Gründung 1968 weltweit für das Menschenrecht
  auf Gesundheit\, leistet Hilfe für Menschen in Not und arbeitet an der
  Beseitigung der strukturellen Ursachen von Armut und Ausgrenzung - so
  auch in Israel und in Palästina.\n\nBei der Veranstaltung wirft Riad
  einen Blick auf die aktuelle Situation nach dem 7. Oktober\, spricht
  über mögliche Entwicklungen und Hintergründe und diskutiert\, was wir
  tun können\, um die Logik der Gewalt zu durchbrechen.\n\nDonnerstag\,
  22. Februar 2024\, 19 Uhr\nStadtteilzentrum Gasparitsch
LOCATION:Stadtteilzentrum Gasparitsch\, Rotenbergstr. 125\, 70190 Stuttgart
GEO:48.788058;9.2116285
ORGANIZER:mailto:organisierte autonomie Stuttgart
END:VEVENT
END:VCALENDAR
