BEGIN:VCALENDAR
VERSION:2.0
PRODID:eintopf.info
METHOD:REQUEST
BEGIN:VEVENT
UID:10aa902d-adf9-4dd7-be88-564f33eddff4
SUMMARY:Veranstaltung: Schluss mit Krise\, Krieg und Kapitalismus … aber
  wie?
DTSTART:20240425T170000Z
URL:https://eintopf.info/event/10aa902d-adf9-4dd7-be88-564f33eddff4
DESCRIPTION:Gemeinsam mit Millionen Menschen weltweit gehen wir auch in
  diesem Jahr am 1. Mai auf die Straße\, um unseren Kampf gegen Krieg\,
  Faschismus und Ausbeutung\, sowie unsere Perspektive einer befreiten
  Gesellschaft Ausdruck zu verleihen.\n\nIm Vorhinein wollen wir – als
  Revolutionäres 1. Mai-Bündnis – in einer gemeinsamen
  Diskussionsveranstaltung auf die Krisenhaftigkeit dieses Systems schauen
  und verschiedene strategische Ansätze diskutieren\, wie Schluss gemacht
  werden kann mit Krise\, Krieg und Kapitalismus.\n\nWas bedeutet
  kapitalistische Krise? Wen gilt es zu erreichen? Woran kann
  revolutionäre Politik heute anknüpfen und wie kann sie an Stärke
  gewinnen?\n\nDazu werden beteiligte Organisationen des Bündnisses ihre
  Analysen und ihren Ansätze vorstellen – und warum es trotz
  Unterschieden sinnvoll ist\, gemeinsam auf die Straße zu
  gehen.\n\nZusätzlich gibt es aktuelle Infos rund um den diesjährigen 1.
  Mai.\n\nDonnerstag\, 25. April\, 19 Uhr\nLinkes Zentrum Lilo
  Herrmann\n\nOrganisiert wird die Veranstaltung vom Revolutionären 1. Mai
  Bündnis
LOCATION:Linkes Zentrum Lilo Herrmann\, Böblinger Straße 105\, 70199
  Stuttgart
GEO:48.7618266;9.1567994
ORGANIZER:mailto:Bündnis für eine revolutionären 1. Mai
END:VEVENT
END:VCALENDAR
