BEGIN:VCALENDAR
VERSION:2.0
PRODID:eintopf.info
METHOD:REQUEST
BEGIN:VEVENT
UID:0fb3df60-0d27-4690-837e-91ec37f49955
SUMMARY:Hanau Bastelabend Migrantifa Stuttgart
DTSTART:20260122T170000Z
URL:https://eintopf.info/event/0fb3df60-0d27-4690-837e-91ec37f49955
CATEGORIES:DIY\,Antirassimus
DESCRIPTION:
LOCATION:Prisma\, Bahnhofstraße 14-18\, 70372 Stuttgart
GEO:48.8024492;9.2171569
ORGANIZER:mailto:Migrantifa Stuttgart
END:VEVENT
END:VCALENDAR
