BEGIN:VCALENDAR
VERSION:2.0
PRODID:eintopf.info
METHOD:REQUEST
BEGIN:VEVENT
UID:0f2cf9e0-4d51-460e-bb87-50e0a308a525
SUMMARY:Fokus "Stuttgarter Kabelattentat"– Zeitzeugen\, Zweitzeugen\,
  Zukunftsaufgaben\,  Film-/Tondokumente und Gespräch
DTSTART:20251001T170000Z
URL:https://eintopf.info/event/0f2cf9e0-4d51-460e-bb87-50e0a308a525
CATEGORIES:Vortrag\,Antifaschismus
DESCRIPTION:Wir haben Hitler das Wort entzogen“ titelte ein Flugblatt am
  Tag nach dem vier junge Antifaschisten am 15. Februar 1933 mit einem
  Axthieb das Kabel durchschlagen hatten\, mit dem Hitlers Wahlkampfrede
  aus der Stuttgarter Stadthalle über das neue Medium Radio übertragen
  werden sollte.\n\nGudrun Greth\, Stolperstein-Initiative Stuttgart-Ost\,
  und Ebbe Kögel\, Allmende Stetten/ David-Pfeffer-Geschichtswerkstatt\,
  führen seit Jahren Gedenkgänge zum „Stuttgarter Kabelattentat“
  durch\, bei denen sie an die Initiatoren\, die direkten und die
  indirekten Tatbeteiligten erinnern.\nIn Kooperation mit dem SWR förderte
  die Forschung zahlreiche Filme und Hörausnahmen aus dem historischen
  SDR-Archiv zutage\, in die an diesem Abend erstmals Einblick gegeben
  wird:\nVor über 50 Jahren aufgenommene und weitgehend in Vergessenheit
  geratene Originalfilme und -Interviews mit unterschiedlichen Beteiligten
  am „Stuttgarter Kabelattentat“ wie Willi Bohn\, Alfred Däuble\,
  Hermann Medinger\, Käte Medinger – interviewt von Karl Ebert\, SDR\,
  aus dem historischen SDR-Archiv bringen einen unmittelbaren Eindruck von
  der konspirativ geplanten und durchgeführten Widerstandsaktion und den
  Folgen für die Beteiligten.\nNeben den O-Tönen der Zeitzeugen sprechen
  Gudrun Greth und Ebbe Kögel auf dem Podium mit Nachkommen von
  Tatbeteiligten wie Gretl Pertuch\, Tochter von Eugen Waller über die
  Folgen für die Familien\, die heutige Bedeutung und die Erwartungen an
  eine angemessene Erinnerung.\nSWR Unternehmenssprecherin Hanna Basten\,
  Stolperstein-Putzpate Benedikt Waldmann und eine Vertreterin der
  Koordinierungsstelle Erinnerungskultur der Stadt Stuttgart diskutieren
  über eine zeitgemäße Form der Erinnerung an das „Stuttgarter
  Kabelattentat“.\n\nKünftig soll in Stuttgart dauerhaftes Gedenken vor
  Ort geschaffen werden durch eine von Jugendlichen mit Künstlern
  entwickelte und umgesetzte Skulptur.\n\nVeranstalter:innen: Initiative
  Lern- und Gedenkort Hotel-Silber e.V.\, StolperKunst\,
  Stolperstein-Initiative Stuttgart-Ost\, Allmende Stetten\,
  David-Pfeffer-Geschichtswerkstatt\nin Zusammenarbeit mit der
  Koordinierungsstelle Erinnerungskultur Stadt S
LOCATION:Erinnerungsort Hotel silber\, Dorotheenstraße 10\, 70173
  Stuttgart
GEO:48.775650850000005;9.181561912095749
ORGANIZER:mailto:Initiative Lern- und Gedenkort Hotel Silber,Allmende
  Stetten,David -Pfeffer-Geschichtswerkstatt, Stetten,StolperKunst
END:VEVENT
END:VCALENDAR
