BEGIN:VCALENDAR
VERSION:2.0
PRODID:eintopf.info
METHOD:REQUEST
BEGIN:VEVENT
UID:0f033301-1c2f-4a27-b626-ab01e3494f20
SUMMARY:Move for Good: Solidarisches Yoga
DTSTART:20250926T163000Z
URL:https://eintopf.info/event/0f033301-1c2f-4a27-b626-ab01e3494f20
DTEND:20250926T174500Z
CATEGORIES:Sonstiges\,Antirassimus
DESCRIPTION:Solidarisches Yoga zum Tag der Geflüchteten\n\nYoga
  praktizieren und dabei etwas Gutes tun - für dich und für andere!\n\nAm
  nationalen Tag der Geflüchteten\, Freitag\, den 26. September\, hast du
  die Möglichkeit\, an einer von zwei Soli-Yoga Klassen im
  Namotoyoga-Studio oder online teilzunehmen und dich so solidarisch mit
  geflüchteten Menschen zu zeigen! Die Erlöse gehen an den
  Flüchtlingsrat Baden-Württemberg. Der gemeinnützige Verein setzt sich
  landesweit für die Rechte und für verbesserte Lebensbedingungen
  geflüchteter Menschen ein.\n\nWeltweit müssen immer mehr Menschen vor
  Krieg\, Gewalt und Umweltkatastrophen fliehen. Gleichzeitig wird es
  diesen Menschen zunehmend schwer gemacht\, in ihrem neuen Zuhause ein
  menschenwürdiges und diskriminierungsfreies Leben zu führen. Um ein
  Zeichen für eine offene und diverse Gesellschaft zu setzen\, nehmen wir
  daher den nationalen Tag der Geflüchteten zum Anlass\, die Arbeit des
  Flüchtlingsrates zu unterstützen.\n\nDie Yogaklassen sind sowohl für
  Anfänger*innen\, als auch für Fortgeschrittene geeignet.\n\nDen von dir
  selbst gewählten Spendenbeitrag kannst du ganz einfach bar oder per
  PayPal an info@namotoyoga.de senden oder auf das Bankkonto
  (DE02600501010002184072) überweisen. Bitte nutze den Verwendungszweck:
  “Charity Yoga für Geflüchtete”.
LOCATION:Namotoyoga\, Johannesstraße 58A\, 70176 Stuttgart
ORGANIZER:mailto:Flüchtlingsrat Baden-Württemberg,Namotoyoga
END:VEVENT
END:VCALENDAR
