BEGIN:VCALENDAR
VERSION:2.0
PRODID:eintopf.info
METHOD:REQUEST
BEGIN:VEVENT
UID:0ee8eb70-779d-4be4-bcd9-e6f3f28f393e
SUMMARY:Das vermeintlich sichere Zuhause
DTSTART:20241010T173000Z
URL:https://eintopf.info/event/0ee8eb70-779d-4be4-bcd9-e6f3f28f393e
DTEND:20241010T193000Z
CATEGORIES:Vortrag\,Feminismus
DESCRIPTION:\nDas vermeintlich sichere Zuhause\n\nEine materialistische
  Analyse der Gewalt gegen Frauen in Paarbeziehungen\n\nVortrag und
  Diskussion mit Maria Jordan\n\nDonnerstag\, 10. Oktober 2024\, 19.30
  Uhr\, Stuttgart\n\nSunny High im Prisma (ehemalige
  Schwabenbräupassage)\, Bahnhofstr. 14-18\, 70372 Stuttgart\n\nGewalt\,
  welche Frauen in unserer Gesellschaft erleben\, ist vielfältig und
  findet in unterschiedlichen Kontexten statt. Trotz zunehmender
  feministischer Errungenschaften scheint das Phänomen der Gewalt gegen
  Frauen insbesondere in Paarbeziehungen unverändert zu bleiben. So wurden
  im vergangenen Jahr 155 Frauen Opfer eines Femizids. Sie wurden
  ermordet\, weil sie Frauen sind. Laut WHO stellt Gewalt gegen Frauen für
  diese das größte Gesundheitsrisiko dar und der gefährlichste Ort für
  sie ist das eigene Zuhause.\n\nDie von Frauen erlebte Gewalt muss
  innerhalb der gesellschaftlichen Strukturen betrachtet und analysiert
  werden. Individuelle Gewalterfahrungen sind Ausdruck einer patriarchalen
  Gesellschaftsordnung. Das Patriarchat ist ein Strukturmerkmal des
  Kapitalismus\, dessen Gesellschaftssystem auf der Gewalt gegen Frauen
  beruht. Der Vortrag erklärt\, warum die bürgerliche Subjektwerdung nur
  dem Mann vorbehalten ist und diskutiert die Folgen für weibliche
  Subjektwerdung. Die Thesen werden am Beispiel des Phänomens der
  sogenannten häuslichen Gewalt erläutert.\n\nMaria Jordan arbeitet als
  Sozialarbeiterin. Ihr Schwerpunkt liegt auf der Arbeit mit
  gewaltbetroffenen Frauen. Sie beschäftigt sich seit mehreren Jahren in
  Theorie und Praxis mit dem Zusammenhang von Gewalt gegen Frauen und
  kapitalistischer Vergesellschaftung. Zudem engagiert sie sich im
  feministischen Bündnis für ein Ende der Gewalt.
LOCATION:Sunny High Club\, Bahnhofstr. 14\, 70372 Stuttgart
GEO:48.8025406;9.2170963
ORGANIZER:mailto:Emma und Fritz
END:VEVENT
END:VCALENDAR
