BEGIN:VCALENDAR
VERSION:2.0
PRODID:eintopf.info
METHOD:REQUEST
BEGIN:VEVENT
UID:0d5a4a46-e37e-425c-b147-fa08ab024e2d
SUMMARY:Mit Zivilcourage gegen Hass und Hetze - Basisworkshop
DTSTART:20260509T070000Z
URL:https://eintopf.info/event/0d5a4a46-e37e-425c-b147-fa08ab024e2d
DTEND:20260509T093000Z
CATEGORIES:Workshop\,Antifaschismus
DESCRIPTION:Seminar des Netzwerks gegen Rechts in Kooperation mit der
  Initiative Lern- und Gedenkort Hotel Silber\nWie kann ich couragiert
  menschen- und demokratiefeindlichen Äußerungen entgegentreten? Damit
  beschäftigt sich dieser Workshop. Souverän bleiben\, auch wenn es dir
  die Sprache verschlägt. Wir üben erfolgreiches Vorgehen in
  Konfliktsituationen: Position beziehen im Alltagsgespräch im privaten
  oder auch im öffentlichen Umfeld.\n\n30 Personen können
  teilnehmen.\nWir bitten um Anmeldung beim Netzwerk gegen Rechts\nPer
  EMail an: kontakt@netzwerk-gegen-rechts.info
LOCATION:Erinnerungsort Hotel Silber\, Dorotheenstraße 10\, 70173
  Stuttgart
ORGANIZER:mailto:Initiative Lern- und Gedenkort Hotel Silber,Netzwerk
  gemeinsam gegen Rechts - für eine bessere Demokratie
END:VEVENT
END:VCALENDAR
