BEGIN:VCALENDAR
VERSION:2.0
PRODID:eintopf.info
METHOD:REQUEST
BEGIN:VEVENT
UID:0be1a346-c129-4071-93ab-625be4ce3f2e
SUMMARY:Der Aufstieg der Rechten – Vortrag mit Sebastian Friedrich
DTSTART:20250515T170000Z
URL:https://eintopf.info/event/0be1a346-c129-4071-93ab-625be4ce3f2e
CATEGORIES:Vortrag\,Antifaschismus
DESCRIPTION:Bei der letzten Bundestagswahl erzielte die AfD mit über
  zwanzig Prozent ihr bislang stärkstes Ergebnis – ein historischer
  Erfolg für eine teilsfaschistische Partei in der Bundesrepublik. Das
  rechte Lager befindet sich im Aufwind – und zugleich im Wandel:
  Während die AfD zulegt\, rutscht die Union in ein Umfragetief.\n\nDer
  rund 75-minütige Vortrag liefert Hintergründe und Analysen zur
  Entstehung und zum Erstarken des rechten Projekts rund um die AfD.
  Thematisiert werden die Ursachen des rechten Aufstiegs\, zentrale
  ideologische Strömungen sowie die Strategien\, mit denen das Projekt
  weit über den Parlamentarismus hinaus gesellschaftlich wirksam werden
  will. Abschließend werden mögliche Zukunftsszenarien und
  unterschiedliche Pfade zur Macht skizziert.\n\nSebastian Friedrich ist
  freier Journalist und Autor aus Hamburg. Er macht Fernsehbeiträge\,
  Radiofeatures und schreibt Texte und Bücher zu politischen und
  gesellschaftlichen Themen.\n\nDer Vortrag findet am 15. Mai um 19 Uhr im
  Alten Feuerwehrhaus Süd (Möhringer Str. 56\, 70199 Stuttgart). Kommt
  vorbei und bringt Freund*innen mit!\n---\n\nVeranstaltung von Stuttgart
  gegen Rechts
LOCATION:Altes Feuerwehrhaus Süd\, Möhringer Str. 56\, 70199 Stuttgart
ORGANIZER:mailto:Stuttgart gegen Rechts
END:VEVENT
END:VCALENDAR
