BEGIN:VCALENDAR
VERSION:2.0
PRODID:eintopf.info
METHOD:REQUEST
BEGIN:VEVENT
UID:0baf5178-e0fc-4380-a09f-0aaea06052ef
SUMMARY:FLINTA* Bike Kitchen Stuttgart
DTSTART:20250215T120000Z
URL:https://eintopf.info/event/0baf5178-e0fc-4380-a09f-0aaea06052ef
DTEND:20250215T160000Z
CATEGORIES:DIY\,Feminismus
DESCRIPTION:Dem Patriarchat die Laufräder abschrauben!\n\nAm 15. Februar
  veranstalten wir von der Bike Kitchen Stuttgart wieder eine FLINTA*-only
  Bike Kitchen.\n\nFLINTA* bedeutet: alle Menschen\, die sich als Frauen\,
  Lesben\, Inter*\, Non-binäre und Trans*-Personen verstehen\, sind
  herzlich eingeladen\, mit uns gemeinsam an Fahrrädern zu
  schrauben.\n\nDu musst kein Vorwissen haben\, nur Bock mit uns zu
  schrauben. Wenn du gerade kein Fahrrad hast\, kannst du trotzdem einfach
  vorbeikommen\, mit uns essen und/oder mit den anderen Teilnehmis an den
  Fahrrädern basteln.\n\n\n13 Uhr Workshop "Wie heißt dieses Dings an
  meinem Rad?"\n14 bis 16 Uhr Offenes Schrauben\n17 Uhr Kaffee & Kuchen &
  Austausch\n\nWir freuen uns auf
  dich!\n\n----------------------------------------------------------------
 ------------------------------------\n\nUnscrew the Wheels of
  Patriarchy!\n\nOn February 15th\, we from Bike Kitchen Stuttgart are
  organizing another FLINTA*-only Bike Kitchen.\n\nFLINTA* means: all
  people who identify as women\, lesbians\, inter*\, non-binary\, and
  trans* persons are warmly invited to join us in working on
  bicycles.\n\nYou don't need any prior knowledge\, you should just want to
  work on bikes with us. If you don't currently have a bike\, you can still
  come by\, eat with us and/or tinker with the other participants on their
  bikes.\n\n13:00 Workshop "What's that thing on my bike?\n14:00 to 16:00
  Open workshop\n17:00 Coffee & cake & get together \n\nWe look forward to
  seeing you!
LOCATION:Prisma\, Bahnhofstraße 14-18\, 70372 Stuttgart
GEO:48.8024492;9.2171569
ORGANIZER:mailto:Bike Kitchen Stuttgart
END:VEVENT
END:VCALENDAR
