BEGIN:VCALENDAR
VERSION:2.0
PRODID:eintopf.info
METHOD:REQUEST
BEGIN:VEVENT
UID:0a924fdc-d63d-4cdc-b8a4-ae70db7df7a2
SUMMARY:Rolle Vorwärts
DTSTART:20240920T190000Z
URL:https://eintopf.info/event/0a924fdc-d63d-4cdc-b8a4-ae70db7df7a2
DTEND:20240920T230000Z
CATEGORIES:DIY\,Sonstiges
DESCRIPTION:Live Electronics & Visuals 
LOCATION:Sunny High Club\, Bahnhofstr. 14\, 70372 Stuttgart
GEO:48.8025406;9.2170963
ORGANIZER:mailto:Sunny High 
END:VEVENT
END:VCALENDAR
