BEGIN:VCALENDAR
VERSION:2.0
PRODID:eintopf.info
METHOD:REQUEST
BEGIN:VEVENT
UID:0a45060a-3591-43cd-8b98-95ad4a355072
SUMMARY:Wir waren Menschen zweiter Klasse“ – Die Geschichte der 1040 im
  Sommer 1944 von Athen nach Deutschland deportierten Griechen
DTSTART:20240410T170000Z
URL:https://eintopf.info/event/0a45060a-3591-43cd-8b98-95ad4a355072
DESCRIPTION:\n  \nVolker Mall berichtet über bisher unerforschten
  Schicksale der 1040 Griechen\, \nBirgit Kipfer liest aus den Tagebüchern
  . \nMusikalische Umrahmung mit Liedern von Mikis Theodorakis: \nNikos
  Hatziliades\, Bouzouki und Volker Mall\, Gitarre \n\nDie Teilnahme an der
  Veranstaltung ist kostenlos. \nWir bitten um Anmeldung per EMail
  unter:anmeldung@hotel-silber.de \n  \n1040 Griechen\, Geschäftsleute\,
  Arbeiter\, Taxifahrer\, Studenten\, zwischen 14 und 60 Jahre alt\, meist
  aus den ‚roten‘ Stadtvierteln Athens\, Dourguti und Vyronas\, wurden
  am 7. und 9. August 1944 bei blutigen Razzien von der SS und griechischen
  kollaborationistischen Sicherheitsbataillonen aufgegriffen und in das im
  Herbst 1943 eingerichtete KZ Chaidari bei Athen verschleppt. Am 16.8.1944
  wurden sie ins Deutsche Reich transportiert. \n382 Zwangsarbeiter aus
  diesem Transport kamen auf den Nachtjägerflugplatz Hailfingen und von
  dort auf andere Militärflugplätze. Eine Gruppe von etwa 200 kam in das
  Untertageprojekt Hecht/Rubin in Geislingen an der Steige\, andere sollten
  im Raum Mannheim Anlagen der Reichsbahn in Stand halten und reparieren.
  \nDie Verfasser haben vier Tagebücher griechischer Zwangsarbeiter
  ausfindig gemacht und ausgewertet. Sie enthalten eine ausführliche
  Beschreibung der Lebens- und Arbeitsbedingungen in diesen NS-Projekten
  und informieren – durch aufwendige Recherchen ergänzt – über die
  Geschichte der griechischen Zwangsarbeiter\, einer nationalen Gruppe\,
  die weitgehend unerforscht ist. \n  \nVeranstalter*innen: Gegen Vergessen
  – Für Demokratie\, KZ-Gedenkstätte Hailfingen-Tailfingen\, Haus der
  Geschichte Baden-Württemberg\, Initiative Lern- und Gedenkort Hotel
  Silber \n
LOCATION:Erinnerungsort Hotel Silber\, Foyer
ORGANIZER:mailto:Initiative Lern- und Gedenkort Hotel Silber,Gegen
  Vergessen – Für Demokratie,Haus der Geschichte
  Baden-Württemberg,KZ-Gedenkstätte Hailfingen-Tailfingen
END:VEVENT
END:VCALENDAR
