BEGIN:VCALENDAR
VERSION:2.0
PRODID:eintopf.info
METHOD:REQUEST
BEGIN:VEVENT
UID:09bc7f8f-bf32-45dc-95fe-bfd4c8c28ec6
SUMMARY:Gasparitsch Kneipe
DTSTART:20240628T180000Z
URL:https://eintopf.info/event/09bc7f8f-bf32-45dc-95fe-bfd4c8c28ec6
DTEND:20240628T215000Z
DESCRIPTION:jeden Freitag ab 20 Uhr mit leckerem Essen\, Getränke – in
  netter Atmosphäre
LOCATION:Stadtteilzentrum Gasparitsch\, Rotenbergstr. 125\, 70190 Stuttgart
GEO:48.788058;9.2116285
END:VEVENT
END:VCALENDAR
