BEGIN:VCALENDAR
VERSION:2.0
PRODID:eintopf.info
METHOD:REQUEST
BEGIN:VEVENT
UID:099c4d13-c2e9-4556-904f-115be7929c24
SUMMARY:MigrantiTalk: Was passiert gerade in Venezuela?
DTSTART:20260115T183000Z
URL:https://eintopf.info/event/099c4d13-c2e9-4556-904f-115be7929c24
CATEGORIES:Offenes Treffen\,Antirassimus
DESCRIPTION:Die Ereignisse in Venezuela haben sich in den letzen Wochen
  immer weiter zugespitzt und sind ein Ausdruck der anhaltenden
  US-Imperialistischen Bestrebungen gegen das autoritäre Regime in
  Venezuela. \n\nWir wollen einen Raum schaffen\, um über die Geschehnisse
  zu reden\, vor allem aber um Menschen aus Venezuela und familiärem Bezug
  zu Venezuela oder Lateinamerika die Möglichkeit geben ihre Gedanken zu
  teilen und in dieser Zeit nicht alleine sein zu müssen. Eine Lösung
  wird es aus Stuttgart heraus nicht geben\, jedoch wollen wir uns mit den
  Menschen in Venezuela solidarisch zeigen und gemeinsam die Situation zu
  reflektieren.\n\nHerzliche Einladung an alle interessierten\, jedoch
  bitten wir Menschen ohne Bezug zu Venezuela oder Lateinamerika sich im
  Hintergrund zu halten und zuzuhören.
LOCATION:Prisma\, Bahnhofstraße 14-18\, 70372 Stuttgart
GEO:48.8024492;9.2171569
ORGANIZER:mailto:Migrantifa Stuttgart
END:VEVENT
END:VCALENDAR
