BEGIN:VCALENDAR
VERSION:2.0
PRODID:eintopf.info
METHOD:REQUEST
BEGIN:VEVENT
UID:0900c652-dd42-4b07-9bbe-6700d977c865
SUMMARY:Neujahrsempfang 2026 der Regionalfraktion Linke.Piraten.SÖS
DTSTART:20260205T170000Z
URL:https://eintopf.info/event/0900c652-dd42-4b07-9bbe-6700d977c865
CATEGORIES:Gesellig\,Antimilitarismus
DESCRIPTION:Die Regionalfraktion Linke.Piraten.SÖS lädt ein zum
  Neujahrsempfang 2026 am 5. Februar 2026 ab 18 Uhr im "Gutbrod" im 1.
  Stock der Friedrichstraße 10 in 70174 Stuttgart.\n\nDamit möchten wir
  uns für die Unterstützung bei unserer politischen Arbeit bedanken\,
  Kontakte knüpfen und vertiefen\, sowie ein paar inhaltliche Impulse
  geben. \n \nEiner unserer politischen Schwerpunkte im letzten Jahr war
  die Ablehnung der Rüstungsförderung durch die Wirtschaftsregion
  Stuttgart (WRS). Daher freut es uns ganz besonders\, dass wir Christoph
  Marischka von der Informationsstelle Militarisierung e.V. für einen
  kurzen Vortrag zum Thema „Der Umbau zur Kriegswirtschaft am Beispiel
  von Drohnen und KI“ gewinnen konnten. \n \nIm Anschluss gibt es zum
  Ausklang etwas Essen\, Getränke und Musik :) mit DJ Mutschlo\n \nDa der
  Platz im Gutbrod etwas begrenzt ist\, wäre  eine Anmeldung an
  info@linke-piraten-soes.de super! Wir freuen uns sehr euch am 05.02. zu
  sehen! Kommt vorbei.\n\n
LOCATION:"Gutbrod" im 1. Stock\, Friedrichstraße 10\, 70174 Stuttgart\,
  Friedrichstraße 10\, 70174 Stuttgart
GEO:48.7828936;9.1770276
ORGANIZER:mailto:Linke.Piraten.SÖS in der Regionalversammlung
END:VEVENT
END:VCALENDAR
