BEGIN:VCALENDAR
VERSION:2.0
PRODID:eintopf.info
METHOD:REQUEST
BEGIN:VEVENT
UID:06129534-01ec-4671-9f23-d68afe08172b
SUMMARY:An Worten wachsen – Feministische Shared Reading Session
DTSTART:20220628T170000Z
URL:https://eintopf.info/event/06129534-01ec-4671-9f23-d68afe08172b
DESCRIPTION:Moderierter Austausch mit Frederike\n\nShared Reading ist eine
  etwas andere Art gemeinsam zu lesen und ruht in der einfachen aber
  kraftvollen Idee\, Worte auf sich wirken zu lassen. Literatur wird laut
  gelesen\, als sinnliche Erfahrung in einem geschützten Raum — über
  alle kulturellen\, sozialen und Altersgrenzen hinweg. In der
  Weltliteratur begegnen wir uns selbst und anderen.\n\nFrederike ist
  ausgebildete Leseleiterin und erleichtert den Zugang zu großartiger
  Literatur. Sie ermutigt\, stellt Fragen\, leitet über in das Gespräch
  zum Gehörten und Gelesenen. Jede*r kann sagen\, was er und sie denkt und
  fühlt. Oder schweigen und einfach nur zuhören.\n\nSHARED READING ist
  weder Therapie noch Buchclub oder ambitionierter Literaturkreis\, sondern
  eine erprobte Methode\, in einer Atmosphäre unangestrengter Offenheit
  die Wirkung von Literatur vor unseren Augen und mit unseren Ohren zu
  erleben. Wer zuhört gehört bereits dazu!\n\nDieser Abend richtet sich
  an alle Menschen. Der Eintritt ist frei. Über einen
  Wertschätzungsbeitrag fürs FF*GZ freuen wir uns. Die Teilnahme
  (begrenzt) ist nur mit Anmeldung bis 27.6. möglich:
  tendertuesday@ffgzstuttgart.de
LOCATION:Feministisches Frauen*gesundheitszentrum\, Kernerstr. 31
GEO:48.78291135;9.190362432796828
ORGANIZER:mailto:Feministisches Frauen*gesundheitszentrum
END:VEVENT
END:VCALENDAR
