BEGIN:VCALENDAR
VERSION:2.0
PRODID:eintopf.info
METHOD:REQUEST
BEGIN:VEVENT
UID:05e22d3d-55b7-4363-83be-bab75f1b2c31
SUMMARY:SHAKE HANDS WITH FRIENDS – Kuballa Release Show mit Hell and
  Back\, Anoia und Silent Trouble
DTSTART:20240106T180000Z
URL:https://eintopf.info/event/05e22d3d-55b7-4363-83be-bab75f1b2c31
DESCRIPTION:Silent Trouble\n„Der Singer/Songwriter Silent Trouble mischt
  Punk\, Grunge und Rock’n’roll und singt Lieder über das menschliche
  Dasein\, mentale Gesundheit\, Politik und mehr. Mit der Akustikgitarre
  ist er in Kneipen und auf den kleinen Bühnen der Region
  unterwegs.“\n\nAnoia\n„Düsterpunk aus Karlsruhe/Stuttgart/Tübingen.
  Manche meinen Einflüsse von den Dead Kennedys zu
  hören.“\n\nKuballa\nMelodischer PunkRock mit deutschsprachigen Texten
  und der Betonung auf Rock im Punk. Manchmal um die Ecke\, manchmal
  geradeaus! Haben ihr neue Vinyl EP im Gepäck\, die an diesem Abend
  veröffentlicht wird!\n\nHell & Back\nFour random dudes from Stuttgart
  that play energy fueled yet melodic punkrock. After several Ep ́s\,
  Split Records and their first Full-length LP “Heartattack” the band
  played shows with BoySetsFire\, Swingin Utters\, Iron Chic and Red City
  Radio and shared the Van with Gnarwolves and their Labelmates Irish
  Handcus and Resolutions.\n\n\nEINLASS 19:00 UHR\nBEGINN  20:00
  UHR\n\nEINTRITT 10 EURO
LOCATION:Demokratisches Zentrum Ludwigsburg (DemoZ)\,  Wilhelmstr. 45/1
  71638 Ludwigsburg 
GEO:48.89585;9.18429
ORGANIZER:mailto:Demokratisches Zentrum Ludwigsburg (DemoZ)
END:VEVENT
END:VCALENDAR
