BEGIN:VCALENDAR
VERSION:2.0
PRODID:eintopf.info
METHOD:REQUEST
BEGIN:VEVENT
UID:0572592d-08bd-4720-be85-d45a17624d1c
SUMMARY:Solar-Sprechstunde in Stuttgart West
DTSTART:20241114T160000Z
URL:https://eintopf.info/event/0572592d-08bd-4720-be85-d45a17624d1c
CATEGORIES:Podiumsdiskussion\,Klimagerechtigkeit
DESCRIPTION:Die SolarScouts in Stuttgart-West/Botnang bieten an drei
  Terminen eine offene Sprechstunde zum Thema Dachsolar- und
  Balkonsolaranlagen an. Neben Antworten zu technischen Fragen bieten wir
  auch Informationen zur Umsetzung in Ein- und Mehrfamilienhäusern (sowohl
  für Haus- \, Wohnungseigentümer und Mieter) an.\nDie Scouts sind
  ehrenamtlich engagierte\, von der Stadt geschulte Bürgerinnen und
  Bürger\, die selbst praktische Erfahrungen gesammelt haben und ihr
  Wissen kostenfrei an alle interessierten Eigenheimbesitzer\, WEGs und
  Mieter weitergeben.
LOCATION:im Cafe des Kulturzentrums Merlin\, 0178 Stuttgart-West\,
  Augustenstr. 72
ORGANIZER:mailto:SolarScouts in Stuttgart-West/Botnang
END:VEVENT
END:VCALENDAR
