BEGIN:VCALENDAR
VERSION:2.0
PRODID:eintopf.info
METHOD:REQUEST
BEGIN:VEVENT
UID:055247c9-8027-4213-a26f-aec4a77665f9
SUMMARY:Geschlechterrolle rückwärts?! – Ein Vortrag über
  Antifeminismus und welche Gefahren von ihm ausgehen
DTSTART:20240712T170000Z
URL:https://eintopf.info/event/055247c9-8027-4213-a26f-aec4a77665f9
CATEGORIES:Vortrag\,Feminismus
DESCRIPTION:Debatten über angebliche „Frühsexualisierung“\, Hetze
  gegen geschlechtergerechte Sprache und (rechte) Angriffe gegen
  geschlechterreflektierte Jugendarbeit sowie politisch aktive Frauen und
  Queers machen deutlich: Entwicklungen rund um Geschlecht und Sexualität
  sind ein umkämpftes Feld. Antifeminismus dient dabei als Werkzeug\, um
  Liberalisierungen zu verhindern und konservative bis reaktionäre
  Geschlechterbilder (wieder) herzustellen. Im Vortrag gibt Rebekka Blum
  eine Einführung\, was unter Antifeminismus zu verstehen ist und welche
  Gefahren von Antifeminismus ausgehen. In einer gemeinsamen Diskussion
  wollen wir der Frage nachgehen\, was eine feministische Antwort auf
  rechtsautoritäre und antifeministische Entwicklungen sein
  kann.\n\nRebekka Blum\n\nvertritt die Professur für Soziologie an der
  Evangelischen Fachhochschule Freiburg in Teilzeit und hat im April 2024
  eine Dissertationsschrift zu „Antifeminismus zwischen 1945 und 1990 in
  Westdeutschland“ am soziologischen Institut der Universität Freiburg
  eingereicht. Rebekka arbeitet als politische Bildner*in und ist Autor*in
  zahlreicher Artikel zu Antifeminismus\, Rechtsextremismus und
  Verschwörungserzählungen sowie des Buches „Angst um die
  Vormachtstellung. Zum Begriff und der Geschichte des deutschen
  Antifeminismus“ (Marta Press 2019). Außerdem ist sie Mitglied im
  Netzwerk feministische Perspektiven und Intervention gegen die (extreme)
  Rechte\, kurz: femPI.\n\nFreitag\, 12. Juli 2024\, ab 19 Uhr\n\nbei
  Trottwar\, Falkertstraße 56\, Stuttgart\n\nDie Veranstaltung wird
  organisiert von der Feministischen Vernetzung\, eine Initiative aus:
  Frauenkollektiv Stuttgart\, FF*GZ Stuttgart\, Organisierte Autonomie
  Stuttgart\, Sozial Radikal gegens Kapital
LOCATION:Trott.war\, Falkertstr. 56\, Stuttgart
GEO:48.782021650000004;9.162419472322213
ORGANIZER:mailto:feministische Vernetzung Stuttgart
END:VEVENT
END:VCALENDAR
