BEGIN:VCALENDAR
VERSION:2.0
PRODID:eintopf.info
METHOD:REQUEST
BEGIN:VEVENT
UID:04eb54c1-8b49-415f-82a6-57d68dc0cc40
SUMMARY:44. Umsonst & Draußen Festival Aufbau I Helfer*innen willkommen!
DTSTART:20250807T070000Z
URL:https://eintopf.info/event/04eb54c1-8b49-415f-82a6-57d68dc0cc40
DTEND:20250807T200000Z
CATEGORIES:Offenes Treffen\,Sonstiges
DESCRIPTION:44. Umsonst & Draußen Festival Stuttgart\n\nAufbau - Tag
  1\n\nHelfende Hände und Köpfe sehr Willkommen!
LOCATION:Festplatz Krehlstraße\, Stuttgart-Vaihingen\, Krehlstraße
  Stuttgart-Vaihingen\, liegt zwischen Stgt.-Vaihingen und Stgt.-Rohr
GEO:48.72305;9.10201
ORGANIZER:mailto:Umsonst & Draußen Stuttgart
END:VEVENT
END:VCALENDAR
