BEGIN:VCALENDAR
VERSION:2.0
PRODID:eintopf.info
METHOD:REQUEST
BEGIN:VEVENT
UID:048b84b3-0a87-45be-af58-7e520dd75e5a
SUMMARY:#wirfahrenzusammen: Stadtversammlung. Bessere Arbeitsbedingungen
  für ÖPNV-Beschäftigte und Verdopplung des ÖPNV bis 2030
DTSTART:20240221T180000Z
URL:https://eintopf.info/event/048b84b3-0a87-45be-af58-7e520dd75e5a
DESCRIPTION:Anmeldungen gerne unter: https://eveeno.com/WirFahrenZusammen
  \n\nVerkehrswende sozial gerecht? Das Bündnis #wirfahrenzusammen ist
  sich sicher: Klimaschutz und soziale Gerechtigkeit - das geht nur Hand in
  Hand.\n\nIm Rahmen der laufenden Tarifrunde im Nahverkehr fordert
  #wirfahrenzusammen im Interesse von Beschäftigten\, Klimabewegten und
  Fahrgäste massive Investitionen in den ÖPNV und bessere
  Arbeitsbedingungen. Das Ziel: ein guter ÖPNV für alle!\n\nDu willst
  dabei sein? Dann komm am 21. Februar 2024 zur
  Stadtversammlung!\n\nVeranstaltung in Kooperation mit #wirfahrenzusammen
  Stuttgart und der Rosa Luxemburg Stiftung 
LOCATION:Rathaus Stuttgart\, Kleiner Sitzungssaal\, Marktplatz 1\, 70173
  Stuttgart\, Kleiner Sitzungssaal
ORGANIZER:mailto:Rosa Luxemburg Stiftung
  Baden-Württemberg,WirFahrenZusammen Stuttgart
END:VEVENT
END:VCALENDAR
