BEGIN:VCALENDAR
VERSION:2.0
PRODID:eintopf.info
METHOD:REQUEST
BEGIN:VEVENT
UID:0293a88e-93fc-4e87-b09f-96b35a71be4a
SUMMARY:Aktionsplenum (1)
DTSTART:20210724T153000Z
URL:https://eintopf.info/event/0293a88e-93fc-4e87-b09f-96b35a71be4a
DTEND:20210724T163000Z
DESCRIPTION:
LOCATION:Kesselbambule Klimacamp 2021\, Wird noch bekannt gegeben
ORGANIZER:mailto:Kesselbambule,Kesselbambule
END:VEVENT
END:VCALENDAR
