BEGIN:VCALENDAR
VERSION:2.0
PRODID:eintopf.info
METHOD:REQUEST
BEGIN:VEVENT
UID:026ce524-40ea-483f-8083-2186693e26c2
SUMMARY:Jubiläums-Kneipe – 45 Jahre DemoZ
DTSTART:20251114T183000Z
URL:https://eintopf.info/event/026ce524-40ea-483f-8083-2186693e26c2
CATEGORIES:Gesellig\,Sonstiges
DESCRIPTION:Juhuu\, das DemoZ gibt es jetzt schon seit 45 Jahren und es
  war\, ist und bleibt der Kaktus im Blühenden Barock! Das wollen wir
  gemeinsam mit euch im Rahmen eines gemütlichen Kneipenabends feiern. Was
  verbindet ihr mit der Geschichte und der Gegenwart des DemoZ? Bringt
  Fotos\, Plakate\, Reliquien und Relikte oder auch selbstgebasteltes mit\,
  das euch an das DemoZ erinnert oder denken lässt. So wird im Saal an
  diesem Abend eine kleine Mitmach-Ausstellung zum DemoZ-Geburtstag
  entstehen.\n\nVon 19 bis 20 Uhr können am 14. November
  Ausstellungsstücke mitgebracht werden. Bitte gestaltet auch ein kleines
  Schild mit einem kurzen Text\, damit auch nach der offiziellen
  Ausstellungseröffnung nachvollziehbar ist\, um was für ein
  Ausstellungsstück es sich handelt.\n\nUm 21 Uhr findet eine offizielle
  Ausstellungseröffnung statt. Nach einer kurzen Begrüßung durch uns
  gibt es ein Open-Mic für diejenigen\, die ihr Ausstellungsstück
  präsentieren wollen. Die Ausstellungseröffnung endet um spätestens 22
  Uhr und wir starten in den gemütlichen Kneipenabend.\n\nBringt Eure
  Sachen entweder direkt an dem Abend mit oder bringt sie schon einen
  Mittwoch vorher im DemoZ. Bitte denkt dran sie ausreichend zu
  Beschriften\, wenn ihr sie wiederhaben wollt!Wir freuen uns über rege
  Beteiligung und sind mega gespannt auf Geschichten aus 45 Jahren DemoZ.
LOCATION:Demokratisches Zentrum Ludwigsburg (DemoZ)\,  Wilhelmstr. 45/1
  71638 Ludwigsburg 
GEO:48.89585;9.18429
ORGANIZER:mailto:Demokratisches Zentrum Ludwigsburg (DemoZ)
END:VEVENT
END:VCALENDAR
